BEGIN:VCALENDAR
VERSION:2.0
PRODID:-//Dance for All - ECPv6.11.2.1//NONSGML v1.0//EN
CALSCALE:GREGORIAN
METHOD:PUBLISH
X-WR-CALNAME:Dance for All
X-ORIGINAL-URL:https://danceforall.co.za
X-WR-CALDESC:Events for Dance for All
REFRESH-INTERVAL;VALUE=DURATION:PT1H
X-Robots-Tag:noindex
X-PUBLISHED-TTL:PT1H
BEGIN:VTIMEZONE
TZID:UTC
BEGIN:STANDARD
TZOFFSETFROM:+0000
TZOFFSETTO:+0000
TZNAME:UTC
DTSTART:20240101T000000
END:STANDARD
END:VTIMEZONE
BEGIN:VEVENT
DTSTART;TZID=UTC:20240210T190000
DTEND;TZID=UTC:20240210T190000
DTSTAMP:20260419T125604
CREATED:20240416T185049Z
LAST-MODIFIED:20240416T185049Z
UID:3686-1707591600-1707591600@danceforall.co.za
SUMMARY:Suidoosterfees Ball
DESCRIPTION:Our students will be performing the item Kwanele that was performed in our show Uhambo at the Suidoosterfees Ball.
URL:https://danceforall.co.za/event/suidoosterfees-ball/
LOCATION:Two Oceans Aquarium\, Dock Rd\, Victoria & Alfred Waterfront\, Cape Town\, Western Cape\, 8002\, South Africa
CATEGORIES:Suidoosterfees
END:VEVENT
BEGIN:VEVENT
DTSTART;TZID=UTC:20240210T190000
DTEND;TZID=UTC:20240210T190000
DTSTAMP:20260419T125604
CREATED:20240416T184557Z
LAST-MODIFIED:20240416T184557Z
UID:3684-1707591600-1707591600@danceforall.co.za
SUMMARY:Suidoosterfees Launch
DESCRIPTION:Our Bridging Programme students have been selected to be hostesses at the launch of Suidoosterfees for the 2024 season.
URL:https://danceforall.co.za/event/suidoosterfees-launch/
CATEGORIES:Suidoosterfees
END:VEVENT
END:VCALENDAR