BEGIN:VCALENDAR
VERSION:2.0
PRODID:-//Dance for All - ECPv6.11.2.1//NONSGML v1.0//EN
CALSCALE:GREGORIAN
METHOD:PUBLISH
X-ORIGINAL-URL:https://danceforall.co.za
X-WR-CALDESC:Events for Dance for All
REFRESH-INTERVAL;VALUE=DURATION:PT1H
X-Robots-Tag:noindex
X-PUBLISHED-TTL:PT1H
BEGIN:VTIMEZONE
TZID:UTC
BEGIN:STANDARD
TZOFFSETFROM:+0000
TZOFFSETTO:+0000
TZNAME:UTC
DTSTART:20240101T000000
END:STANDARD
END:VTIMEZONE
BEGIN:VEVENT
DTSTART;TZID=UTC:20240831T100000
DTEND;TZID=UTC:20240831T140000
DTSTAMP:20260419T143113
CREATED:20240726T083742Z
LAST-MODIFIED:20240815T093709Z
UID:4996-1725098400-1725112800@danceforall.co.za
SUMMARY:Colour Your Passion
DESCRIPTION:Colour Your Passion Brought to you by Women for Women to inspire\, to dream and to dare to risk…. Incredible speakers with REAL stories – from Corporate\, small businesses and social media spaces… Interactive engagement\, live entertainment and great giveaways. \nBe prepared for an intentional message that will leave you filled with the drive to colour your canvas to your destiny!! Designed for you by Colored Girls Rock and Brukman Consulting \nDance for All will be the beneficiary of this event. \nDress Code: Black and a pop of colour that defines YOU\nTime: 10am – 2pm \n\n\n\n\nVenue\n\nCanal Walk Shopping Centre\, Cape Town\, Auditorium Upper level close to entrance 12  Location on Google Maps
URL:https://danceforall.co.za/event/colour-your-passion/
LOCATION:Canal Walk\, 490 Century Blvd\, Century City\, Cape Town\, Western Cape\, 7446\, South Africa
END:VEVENT
BEGIN:VEVENT
DTSTART;VALUE=DATE:20240919
DTEND;VALUE=DATE:20240922
DTSTAMP:20260419T143113
CREATED:20240716T084925Z
LAST-MODIFIED:20240815T095053Z
UID:4993-1726704000-1726963199@danceforall.co.za
SUMMARY:Bloom
DESCRIPTION:Cape Junior Ballet presents a flourish of dance – Bloom \nDance for All students will be participating in the Cape Junior Ballets September show. \nVenue: \nBergvliet High School \nDates and Times: \nThursday 19 September @ 7pm\nFriday 20 September @ 7pm\nSaturday 21 September @ 2pm and 7pm
URL:https://danceforall.co.za/event/cape-junior-ballet/
LOCATION:Bergvliet High School\, Firgrove Way\, Bergvliet\, Cape Town\, Western Cape\, 7806\, South Africa
CATEGORIES:Performance
END:VEVENT
BEGIN:VEVENT
DTSTART;VALUE=DATE:20240923
DTEND;VALUE=DATE:20240926
DTSTAMP:20260419T143113
CREATED:20240815T101012Z
LAST-MODIFIED:20240815T101012Z
UID:5020-1727049600-1727308799@danceforall.co.za
SUMMARY:Dance for All Spring Workshop
DESCRIPTION:Our annual workshop is where our students get to enjoy 3 days of exploring different genres and teachings from our guest teachers and in-house teachers. \n 
URL:https://danceforall.co.za/event/dance-for-all-spring-workshop/
LOCATION:Dance for All\, 10 Aden Avenue\, Athlone\, Cape Town\, Western Cape\, 7760\, South Africa
CATEGORIES:Workshops
END:VEVENT
BEGIN:VEVENT
DTSTART;VALUE=DATE:20241012
DTEND;VALUE=DATE:20241013
DTSTAMP:20260419T143113
CREATED:20240815T102020Z
LAST-MODIFIED:20240815T102020Z
UID:5023-1728691200-1728777599@danceforall.co.za
SUMMARY:DFA Arena Launch
DESCRIPTION:We are happy to announce the new Arena Space at DFA\, which will be a platform for young initiatives in the performing theatre spaces.
URL:https://danceforall.co.za/event/dfa-arena-launch/
LOCATION:Dance for All\, 10 Aden Avenue\, Athlone\, Cape Town\, Western Cape\, 7760\, South Africa
END:VEVENT
BEGIN:VEVENT
DTSTART;TZID=UTC:20250328T193000
DTEND;TZID=UTC:20250328T213000
DTSTAMP:20260419T143113
CREATED:20250212T053643Z
LAST-MODIFIED:20250213T080301Z
UID:5092-1743190200-1743197400@danceforall.co.za
SUMMARY:UN-TOUCHED
DESCRIPTION:UN-TOUCHED \n\n\n\n\nA new production by Dance for All\, funded by the National Arts Council of South Africa (NAC)\, brings a thought-provoking reflection on how the new generation of millennials navigates life in post-democratic South Africa and beyond. \n\n\n\n\nThrough the expressive art of dance\, Un-Touched explores the impact of political and social factors\, cultural identity\, religious beliefs\, and evolving social tendencies on young people’s futures. \n\n\n\n\nThis powerful performance features the talented dancers of the DFA InSPIRAtions Youth Company\, founded in honour of the late Prima Ballerina Assoluta\, Phyllis Spira. \n\n\n\n\nAdele Blank\, choreographer extraordinaire & contemporary dance doyenne\, who previously directed the InSPIRAtions Company\, in 2009\, returns with a new work for the company. \n\n\n\n\n Expect a fusion of dance\, song\, and live music as DFA expands its artistic reach with the InSPIRAtions Dance & Performance Initiative. \n\n\n\nDon’t miss this unforgettable experience!\n Date: 28 March 2025\n Time: 19:30\n Venue: Nasdak Rooftop\n\n\n Get your tickets now on Quicket!\nhttps://www.quicket.co.za/events/299903-un-touched/
URL:https://danceforall.co.za/event/un-touched/
LOCATION:Nasdak Rooftop\, 40 Heerengracht Street\, Cape Town\, Western Cape\, 8001\, South Africa
CATEGORIES:Performance
END:VEVENT
BEGIN:VEVENT
DTSTART;TZID=UTC:20250429T183000
DTEND;TZID=UTC:20250429T200000
DTSTAMP:20260419T143113
CREATED:20250407T083509Z
LAST-MODIFIED:20250407T083509Z
UID:5110-1745951400-1745956800@danceforall.co.za
SUMMARY:DANCE SYNERGY VOL IV
DESCRIPTION:
URL:https://danceforall.co.za/event/dance-synergy-vol-iv/
LOCATION:Zip Zap Circus\, 10 Jan Smuts Street\, Cape Town\, Western Cape\, 8000\, South Africa
END:VEVENT
BEGIN:VEVENT
DTSTART;VALUE=DATE:20250430
DTEND;VALUE=DATE:20250501
DTSTAMP:20260419T143113
CREATED:20250407T083054Z
LAST-MODIFIED:20250407T083054Z
UID:5106-1745971200-1746057599@danceforall.co.za
SUMMARY:Suidoosterfees Konsert van Hoop
DESCRIPTION:
URL:https://danceforall.co.za/event/suidoosterfees-konsert-van-hoop/
LOCATION:Western Cape
CATEGORIES:Suidoosterfees
END:VEVENT
BEGIN:VEVENT
DTSTART;TZID=UTC:20250502T203000
DTEND;TZID=UTC:20250502T210000
DTSTAMP:20260419T143113
CREATED:20250407T083246Z
LAST-MODIFIED:20250407T083246Z
UID:5108-1746217800-1746219600@danceforall.co.za
SUMMARY:Artscape Kunstetreffers
DESCRIPTION:Our Bridging Programme Seniors and selected Juniors will perform at the concert during the Suidoosterfees on 2nd May 2025 at 20h30 in the Artscape Theatre.
URL:https://danceforall.co.za/event/artscape-kunstetreffers/
LOCATION:Artscape Opera House\, D F Malan Street\, Cape Town\, Western Cape\, 8002\, South Africa
CATEGORIES:Suidoosterfees
END:VEVENT
BEGIN:VEVENT
DTSTART;TZID=UTC:20250503T150000
DTEND;TZID=UTC:20250503T163000
DTSTAMP:20260419T143113
CREATED:20250407T083606Z
LAST-MODIFIED:20250407T083606Z
UID:5113-1746284400-1746289800@danceforall.co.za
SUMMARY:DANCE SYNERGY VOL IV
DESCRIPTION:
URL:https://danceforall.co.za/event/dance-synergy-vol-iv-2/
LOCATION:Zip Zap Circus\, 10 Jan Smuts Street\, Cape Town\, Western Cape\, 8000\, South Africa
END:VEVENT
BEGIN:VEVENT
DTSTART;VALUE=DATE:20251002
DTEND;VALUE=DATE:20251003
DTSTAMP:20260419T143113
CREATED:20250910T081834Z
LAST-MODIFIED:20250910T081834Z
UID:5138-1759363200-1759449599@danceforall.co.za
SUMMARY:Rector and Vice-Chancellor’s Inauguration
DESCRIPTION:
URL:https://danceforall.co.za/event/rector-and-vice-chancellors-inauguration/
LOCATION:Western Cape
END:VEVENT
BEGIN:VEVENT
DTSTART;VALUE=DATE:20251007
DTEND;VALUE=DATE:20251008
DTSTAMP:20260419T143113
CREATED:20250910T083727Z
LAST-MODIFIED:20250910T083727Z
UID:5141-1759795200-1759881599@danceforall.co.za
SUMMARY:DCAS Awards
DESCRIPTION:
URL:https://danceforall.co.za/event/dcas-awards/
LOCATION:Western Cape
END:VEVENT
BEGIN:VEVENT
DTSTART;VALUE=DATE:20251014
DTEND;VALUE=DATE:20251018
DTSTAMP:20260419T143113
CREATED:20250910T083816Z
LAST-MODIFIED:20250910T083816Z
UID:5143-1760400000-1760745599@danceforall.co.za
SUMMARY:Artscape Rural Project in Riversdale
DESCRIPTION:
URL:https://danceforall.co.za/event/artscape-rural-project-in-riversdale/
LOCATION:Western Cape
END:VEVENT
BEGIN:VEVENT
DTSTART;VALUE=DATE:20251114
DTEND;VALUE=DATE:20251115
DTSTAMP:20260419T143113
CREATED:20250910T084100Z
LAST-MODIFIED:20250910T084100Z
UID:5145-1763078400-1763164799@danceforall.co.za
SUMMARY:Unmute Arts Ability Festival
DESCRIPTION:
URL:https://danceforall.co.za/event/unmute-arts-ability-festival/
LOCATION:Western Cape
END:VEVENT
END:VCALENDAR